BEGIN:VCALENDAR
VERSION:2.0
PRODID:-//ChamberMaster//Event Calendar 2.0//EN
METHOD:PUBLISH
X-PUBLISHED-TTL:P3D
REFRESH-INTERVAL:P3D
CALSCALE:GREGORIAN
BEGIN:VEVENT
DTSTART;VALUE=DATE:20151105
DTEND;VALUE=DATE:20151106
TRANSP:TRANSPARENT
X-MICROSOFT-CDO-ALLDAYEVENT:TRUE
SUMMARY:Life Insurance Blitz
DESCRIPTION:We are now taking appointments to meet with our Life Insurance Specialist.  He will be in our office one day only!  Call now to make an appointment for November 5th\, 2015! 218-739-3977
X-ALT-DESC;FMTTYPE=text/html:We are now taking appointments to meet with our Life Insurance Specialist.&nbsp\; He will be in our office one day only!&nbsp\; Call now to make an appointment for November 5th\, 2015! 218-739-3977
LOCATION:119 Friberg Ave Suite A\, Fergus Falls MN 56537
UID:e.314.25103
SEQUENCE:3
DTSTAMP:20260426T011108Z
URL:https://business.fergusfalls.com/events/details/life-insurance-blitz-11-05-2015-25103
END:VEVENT

END:VCALENDAR
