BEGIN:VCALENDAR
VERSION:2.0
PRODID:-//ChamberMaster//Event Calendar 2.0//EN
METHOD:PUBLISH
X-PUBLISHED-TTL:P3D
REFRESH-INTERVAL:P3D
CALSCALE:GREGORIAN
BEGIN:VEVENT
DTSTART:20160513T233000Z
DTEND:20160514T030000Z
X-MICROSOFT-CDO-ALLDAYEVENT:FALSE
SUMMARY:Life's Crazy Journey - A Romantic Comedy - Dinner Theater
DESCRIPTION:Come and enjoy dinner and the romantic comedy\, "Life's Crazy Journey" featuring The Funtastics Theater Troupe with us at the Best Western & Bigwood Event Center. To purchase tickets please call 218-739-2211!\n\nYou won't want to miss this show. The Funtastics Theater Troupe have performed at many events\, including performances at Elmer's BBQ\, this past Summer.
X-ALT-DESC;FMTTYPE=text/html:<span style="color: rgb(75\, 79\, 86)\; font-family: helvetica\, arial\, sans-serif\; font-size: 14px\; line-height: 18.76px\; background-color: rgb(255\, 255\, 255)\;">Come and enjoy dinner and the romantic comedy\, &quot\;Life&#39\;s Crazy Journey&quot\; featuring The Funtastics Theater Troupe with us at the Best Western &amp\; Bigwood Event Center. To purchase tickets please call 218-739-2211!</span><br style="color: rgb(75\, 79\, 86)\; font-family: helvetica\, arial\, sans-serif\; font-size: 14px\; line-height: 18.76px\; background-color: rgb(255\, 255\, 255)\;" />\n<span style="color: rgb(75\, 79\, 86)\; font-family: helvetica\, arial\, sans-serif\; font-size: 14px\; line-height: 18.76px\; background-color: rgb(255\, 255\, 255)\;">You won&#39\;t want to miss this show. The Funtastics Theater Troupe have performed at many events\, including performances at Elmer&#39\;s BBQ\, this past Summer.</span>
LOCATION:pin Hide Map Best Western & Bigwood Event Center 925 Western Ave\, Fergus Falls\, Minnesota 56537
UID:e.314.32685
SEQUENCE:3
DTSTAMP:20260425T145825Z
URL:https://business.fergusfalls.com/events/details/life-s-crazy-journey-a-romantic-comedy-dinner-theater-05-13-2016-32685
END:VEVENT

END:VCALENDAR
