BEGIN:VCALENDAR
VERSION:2.0
PRODID:-//ChamberMaster//Event Calendar 2.0//EN
METHOD:PUBLISH
X-PUBLISHED-TTL:P3D
REFRESH-INTERVAL:P3D
CALSCALE:GREGORIAN
BEGIN:VEVENT
DTSTART:20171108T220000Z
DTEND:20171108T220000Z
X-MICROSOFT-CDO-ALLDAYEVENT:FALSE
SUMMARY:Lift Bridge Brewery Beer & Pizza Tasting
DESCRIPTION:Dining Car #423 will be co-hosting a Beer and Flatbread Pizza tasting with Lift Bridge Brewery from Stillwater\, Minnesota! \n\n\n\nThese guys are new to our area and are producing some awfully good beers! We will be selling a specially priced "flight" of of the best Lift Bridge Brews with an all-you-can-eat pizza pairing.
X-ALT-DESC;FMTTYPE=text/html:<span style="color: rgb(75\, 79\, 86)\; font-family: helvetica\,arial\,sans-serif\; font-size: 14px\;">Dining Car #423 will be co-hosting a Beer and Flatbread Pizza tasting with Lift Bridge Brewery from Stillwater\, Minnesota!&nbsp\;</span><br />\n<br />\n<span style="color: rgb(75\, 79\, 86)\; font-family: helvetica\,arial\,sans-serif\; font-size: 14px\;">These guys are new to our area and are producing some awfully good beers! We will be selling a specially priced &quot\;flight&quot\; of of the best Lift Bridge Brews with an all-you-can-eat pizza pairing.&nbsp\;</span>
LOCATION:423 S Cascade Street\, Fergus Falls\, MN (Train Depot next to the Library)
UID:e.314.42837
SEQUENCE:3
DTSTAMP:20260424T074111Z
URL:https://business.fergusfalls.com/events/details/lift-bridge-brewery-beer-pizza-tasting-42837
END:VEVENT

END:VCALENDAR
