BEGIN:VCALENDAR
VERSION:2.0
PRODID:-//ChamberMaster//Event Calendar 2.0//EN
METHOD:PUBLISH
X-PUBLISHED-TTL:P3D
REFRESH-INTERVAL:P3D
CALSCALE:GREGORIAN
BEGIN:VEVENT
DTSTART:20160505T230000Z
DTEND:20160506T040000Z
X-MICROSOFT-CDO-ALLDAYEVENT:FALSE
SUMMARY:Little Black Dress and Black Tie Affair
DESCRIPTION:Little Black Dress & Black Tie Affair -- Growing Great Readers in Otter Tail County\n\nSocial hour begins at 6pm.\n\nLive Music from "Red Jazz"\n\nDinner\n\nSilent & Live Auction\n\nPhoto Booth\n\nDance Lesson\n\nCash Bar Available\n\nA chance to dress up & have fun while supporting young readers.\n\nProceeds provide scholarships for children birth to age 5 for the Dolly Parton Imagination Library Literacy Program for Children in Otter Tail County.
X-ALT-DESC;FMTTYPE=text/html:Little Black Dress &amp\; Black Tie Affair -- Growing Great Readers in Otter Tail County<br />\nSocial hour begins at 6pm.<br />\nLive Music from &quot\;Red Jazz&quot\;<br />\nDinner<br />\nSilent &amp\; Live Auction<br />\nPhoto Booth<br />\nDance Lesson<br />\nCash Bar Available<br />\n<span style="line-height: 20.8px\;">A chance to dress up &amp\; have fun while supporting young readers.<br />\nProceeds provide scholarships for children birth to age 5 for the&nbsp\;Dolly Parton Imagination Library Literacy Program for Children in Otter Tail County.</span>
LOCATION:Bigwood Event Center Fergus Falls\, MN
UID:e.314.32624
SEQUENCE:3
DTSTAMP:20260425T163652Z
URL:https://business.fergusfalls.com/events/details/little-black-dress-and-black-tie-affair-05-05-2016-32624
END:VEVENT

END:VCALENDAR
