BEGIN:VCALENDAR
VERSION:2.0
PRODID:-//ChamberMaster//Event Calendar 2.0//EN
METHOD:PUBLISH
X-PUBLISHED-TTL:P3D
REFRESH-INTERVAL:P3D
CALSCALE:GREGORIAN
BEGIN:VEVENT
DTSTART:20190101T014500Z
DTEND:20190101T063000Z
X-MICROSOFT-CDO-ALLDAYEVENT:FALSE
SUMMARY:Live at The Spot
DESCRIPTION:Come down to The Spot Panini & Wine on New Year's Eve! The show starts at 7:45 PM and goes into 2019. Eat\, drink\, be merry and rock out with Sonus Nexus\, The Ditch Hoppers\, The Towne Bastards and Todd Stormz! Admission is free so bring your friends and join the festivities!
X-ALT-DESC;FMTTYPE=text/html:<div class="_63ew" data-testid="event-permalink-details"><span>Come down to The Spot Panini &amp\; Wine on New Year&#39\;s Eve! The show starts at 7:45 PM and goes into 2019. Eat\, drink\, be merry and rock out with Sonus Nexus\, The Ditch Hoppers\, The Towne Bastards and Todd Stormz! Admission is free so bring your friends and join the festivities!</span></div>\n
LOCATION:
UID:e.314.52196
SEQUENCE:3
DTSTAMP:20260423T105245Z
URL:https://business.fergusfalls.com/events/details/live-at-the-spot-52196
END:VEVENT

END:VCALENDAR
