BEGIN:VCALENDAR
VERSION:2.0
PRODID:-//ChamberMaster//Event Calendar 2.0//EN
METHOD:PUBLISH
X-PUBLISHED-TTL:P3D
REFRESH-INTERVAL:P3D
CALSCALE:GREGORIAN
BEGIN:VEVENT
DTSTART:20180331T020000Z
DTEND:20180331T060000Z
X-MICROSOFT-CDO-ALLDAYEVENT:FALSE
SUMMARY:Live Band - VFW
DESCRIPTION:JACKED UP\n \n\nHigh energy\, mind blowing country/pop/rock music!\n\nBiggest bang for the buck rocking country show in the Valley!!
X-ALT-DESC;FMTTYPE=text/html:JACKED UP\n<div class="_37p9 _50f3">&nbsp\;</div>\n\n<div class="_37pa _50f3">High energy\, mind blowing country/pop/rock music!<br />\nBiggest bang for the buck rocking country show in the Valley!!</div>\n
LOCATION:FF VFW 420 E Washington Ave
UID:e.314.47431
SEQUENCE:3
DTSTAMP:20260424T025135Z
URL:https://business.fergusfalls.com/events/details/live-band-vfw-47431
END:VEVENT

END:VCALENDAR
