BEGIN:VCALENDAR
VERSION:2.0
PRODID:-//ChamberMaster//Event Calendar 2.0//EN
METHOD:PUBLISH
X-PUBLISHED-TTL:P3D
REFRESH-INTERVAL:P3D
CALSCALE:GREGORIAN
BEGIN:VEVENT
DTSTART;VALUE=DATE:20170317
DTEND;VALUE=DATE:20170318
TRANSP:TRANSPARENT
X-MICROSOFT-CDO-ALLDAYEVENT:TRUE
SUMMARY:Live Band - z103 - Tripwire
DESCRIPTION:St. Patrick's Day with Tripwire at the Z103 Bar & Grill
X-ALT-DESC;FMTTYPE=text/html:St. Patrick&#39\;s Day with Tripwire at the Z103 Bar &amp\; Grill
LOCATION:902 Frontier Dr Fergus Falls\, Minnesota
UID:e.314.38916
SEQUENCE:3
DTSTAMP:20260424T210138Z
URL:https://business.fergusfalls.com/events/details/live-band-z103-tripwire-38916
END:VEVENT

END:VCALENDAR
