BEGIN:VCALENDAR
VERSION:2.0
PRODID:-//ChamberMaster//Event Calendar 2.0//EN
METHOD:PUBLISH
X-PUBLISHED-TTL:P3D
REFRESH-INTERVAL:P3D
CALSCALE:GREGORIAN
BEGIN:VEVENT
DTSTART:20181020T010000Z
DTEND:20181020T040000Z
X-MICROSOFT-CDO-ALLDAYEVENT:FALSE
SUMMARY:Live Music at Stalker Lake
DESCRIPTION:Live Music from Kayla Daniels\n\n\n\n Hosted by Stalker Lake Golf Course Bar and Grill\n\n\n\nStalker Lake Golf course is inviting you to join us in listening to the very talented Kayla Daniels. Music starts at 8 and there is no cover charge for this event
X-ALT-DESC;FMTTYPE=text/html:<div class="_5gmw">\n<h1 class="_5gmx" data-testid="event-permalink-event-name" id="seo_h1_tag">Live Music from Kayla Daniels</h1>\n\n<div class="_5gnb">\n<div class="_b9-">\n<div content="Stalker Lake Golf Course Bar and Grill" data-testid="event_permalink_feature_line" style="display: inline\;">&nbsp\;Hosted by <a data-hovercard="/ajax/hovercard/page.php?id=342179685896222&amp\;extragetparams=%7B%22eid%22%3A%22ARCx0n6vF0iE2OOlxDVk6IrYGUsbZhMT7HBXICnXjbCON6E6Pb7s7one7-G_srjWryMm9VSlE_2woTFa%22%7D" data-hovercard-position="below" href="https://www.facebook.com/StalkerLakeGolfCourseBarAndGrill/?eid=ARCx0n6vF0iE2OOlxDVk6IrYGUsbZhMT7HBXICnXjbCON6E6Pb7s7one7-G_srjWryMm9VSlE_2woTFa">Stalker Lake Golf Course Bar and Grill</a><br />\n<br />\n<span>Stalker Lake Golf course is inviting you to join us in listening to the very talented Kayla Daniels. Music starts at 8 and there is no cover charge for this event</span><br />\n&nbsp\;</div>\n</div>\n</div>\n</div>\n
LOCATION:Stalker lake Golf Course Bar & Grill 15786 Golf Course Rd Dalton Mn 56324
UID:e.314.50479
SEQUENCE:3
DTSTAMP:20260423T163620Z
URL:https://business.fergusfalls.com/events/details/live-music-at-stalker-lake-50479
END:VEVENT

END:VCALENDAR
