BEGIN:VCALENDAR
VERSION:2.0
PRODID:-//ChamberMaster//Event Calendar 2.0//EN
METHOD:PUBLISH
X-PUBLISHED-TTL:P3D
REFRESH-INTERVAL:P3D
CALSCALE:GREGORIAN
BEGIN:VEVENT
DTSTART:20180902T200000Z
DTEND:20180903T000000Z
X-MICROSOFT-CDO-ALLDAYEVENT:FALSE
SUMMARY:Live Music at the Corner
DESCRIPTION:715 Hot Heads and the Corner Store invite you to our second year of the end of the summer bash\, CONFUSION AT THE CORNER\, free to the community.\n\n\n\nListen to the areas hottest band on the public beach of beautiful Ottertail\, while enjoying our amenities:\n\n- Cash Bar\n\n- Chair Massages\n\n- Adult Slip and Slide\n\n- Adult Bubble Tent\n\n- Food provided by the Wounded Warriors\n\n\n\nBecause our generous sponsors prioritize your safety\, round trip shuttle rides will be available from Fergus Falls to Otter Tail Lake. The shuttle will leave from Socials Bar and Grill (offering Confusion at the Corner Drink Specials) at the following times:\n\n1:30 pm - 2:45 pm - 4:45 pm\n\nThe final shuttle departure from Otter Tail Lake back to Socials in Fergus Falls will leave Otter Tail at 8 pm sharp. Round trip shuttle rides will be $20 per person.\n\n\n\nAs our last year's reputation proceeds us\, this will be the best end of summer party in the area.
X-ALT-DESC;FMTTYPE=text/html:<span>715 Hot Heads and the Corner Store invite you to our second year of the end of the summer bash\, CONFUSION AT THE CORNER\, free to the community.<br />\n<br />\nListen to the areas hottest band on the public beach of beautiful Ottertail\, while enjoying our amenities:<br />\n- Cash Bar<br />\n- Chair Massages<br />\n- Adult Slip and Slide<br />\n- Adult Bubble Tent<br />\n- Food provided by the Wounded Warriors<br />\n<br />\nBecause our generous sponsors prioritize your safety\, round trip shuttle rides will be available from Fergus Falls to Otter Tail Lake. The shuttle will leave from Socials Bar and Grill (offering Confusion at the Corner Drink Specials) at the following times:<br />\n1:30 pm - 2:45 pm - 4:45 pm<br />\nThe final shuttle departure from Otter Tail Lake back to Socials in Fergus Falls will leave Otter Tail at 8 pm sharp. Round trip shuttle rides will be $20 per person.<br />\n<br />\nAs our last year&#39\;s reputation proceeds us\, this will be the best end of summer party in the area.</span>
LOCATION:
UID:e.314.50344
SEQUENCE:3
DTSTAMP:20260423T181122Z
URL:https://business.fergusfalls.com/events/details/live-music-at-the-corner-50344
END:VEVENT

END:VCALENDAR
