BEGIN:VCALENDAR
VERSION:2.0
PRODID:-//ChamberMaster//Event Calendar 2.0//EN
METHOD:PUBLISH
X-PUBLISHED-TTL:P3D
REFRESH-INTERVAL:P3D
CALSCALE:GREGORIAN
BEGIN:VEVENT
DTSTART:20180913T000000Z
DTEND:20180913T013000Z
X-MICROSOFT-CDO-ALLDAYEVENT:FALSE
SUMMARY:Live Music at The Spot
DESCRIPTION:Axtell is returning to The Spot in Fergus Falls! Thank you to everyone who made last year's shows there such fun events. We had to come back!\n\n\n\nAxtell is an internationally touring folk/soul duet originating as street performers from Minnesota and Argentina. The lively duo has performed over 100 shows all over the US and South America\, harmonizing traditional and modern sounds from both continents. Their rule-breaking performances are upbeat\, theatrical\, and fun for all ages!\n\n\n\nAxtell is currently on a 3 part\, 14 month nation-wide tour called "The Trilogy Tour\," celebrating the release of their 3rd EP "And Now."
X-ALT-DESC;FMTTYPE=text/html:<div class="_63ew" data-testid="event-permalink-details"><span>Axtell is returning to The Spot in Fergus Falls! Thank you to everyone who made last year&#39\;s shows there such fun events. We had to come back!<br />\n<br />\nAxtell is an internationally touring folk/soul duet originating as street performers from Minnesota and Argentina. The lively duo has performed over 100 shows all over the US and South America\, harmonizing traditional and modern sounds from both continents. Their rule-breaking performances are upbeat\, theatrical\, and fun for all ages!<br />\n<br />\nAxtell is currently on a 3 part\, 14 month nation-wide tour called &quot\;The Trilogy Tour\,&quot\; celebrating the release of their 3rd EP &quot\;And Now.&quot\;</span><br />\n&nbsp\;</div>\n
LOCATION:The Spot Panini & Wine 220 W Lincoln Ave
UID:e.314.50329
SEQUENCE:3
DTSTAMP:20260423T165229Z
URL:https://business.fergusfalls.com/events/details/live-music-at-the-spot-50329
END:VEVENT

END:VCALENDAR
