BEGIN:VCALENDAR
VERSION:2.0
PRODID:-//ChamberMaster//Event Calendar 2.0//EN
METHOD:PUBLISH
X-PUBLISHED-TTL:P3D
REFRESH-INTERVAL:P3D
CALSCALE:GREGORIAN
BEGIN:VEVENT
DTSTART:20151122T013000Z
DTEND:20151122T040000Z
X-MICROSOFT-CDO-ALLDAYEVENT:FALSE
SUMMARY:Live Music at The Spot Wine & Panini ( The Rockats)
DESCRIPTION:It's time for another fix of your favorite Kats! Get down to The Spot to enjoy your favorite oldies with your favorite glass of wine! During the breaks Alan will be sharing his favorite baking secrets\, Alvin will be showing how to carve the perfect Turkey\, and Justin will be lecturing about the dangers of "Summer"! You won't want to miss a thing!
X-ALT-DESC;FMTTYPE=text/html:<strong><span class="fsl">It&#39\;s time for another fix of your favorite Kats! Get down to The Spot to enjoy your favorite oldies with your favorite glass of wine! During the breaks Alan will be sharing his favorite baking secrets\, Alvin will be showing how to carve the perfect Turkey\, and Justin will be lecturing about the dangers of &quot\;Summer&quot\;! You won&#39\;t want to miss a thing!</span></strong>
LOCATION:The Spot Panini & Wine 220 W Lincoln Ave Fergus Falls Mn
UID:e.314.26464
SEQUENCE:3
DTSTAMP:20260426T011857Z
URL:https://business.fergusfalls.com/events/details/live-music-at-the-spot-wine-panini-the-rockats-11-21-2015-26464
END:VEVENT

END:VCALENDAR
