BEGIN:VCALENDAR
VERSION:2.0
PRODID:-//ChamberMaster//Event Calendar 2.0//EN
METHOD:PUBLISH
X-PUBLISHED-TTL:P3D
REFRESH-INTERVAL:P3D
CALSCALE:GREGORIAN
BEGIN:VEVENT
DTSTART:20160507T003000Z
DTEND:20160507T040000Z
X-MICROSOFT-CDO-ALLDAYEVENT:FALSE
SUMMARY:Live Music at the VFW
DESCRIPTION:Walleye Supper 5-7\n\nLarry Charon Band\n\n7:30-11pm
X-ALT-DESC;FMTTYPE=text/html:Walleye Supper 5-7<br />\nLarry Charon Band<br />\n7:30-11pm<br />\n&nbsp\;
LOCATION:VFW 420 E. WASHINGTON AVE FERGUS FALLS
UID:e.314.32673
SEQUENCE:3
DTSTAMP:20260425T163342Z
URL:https://business.fergusfalls.com/events/details/live-music-at-the-vfw-05-06-2016-32673
END:VEVENT

END:VCALENDAR
