BEGIN:VCALENDAR
VERSION:2.0
PRODID:-//ChamberMaster//Event Calendar 2.0//EN
METHOD:PUBLISH
X-PUBLISHED-TTL:P3D
REFRESH-INTERVAL:P3D
CALSCALE:GREGORIAN
BEGIN:VEVENT
DTSTART:20161126T020000Z
DTEND:20161126T054500Z
X-MICROSOFT-CDO-ALLDAYEVENT:FALSE
SUMMARY:Live Music at the VFW
DESCRIPTION:Gun Shy LIVE at the VFW.  \n\nCountry Music at it's finest
X-ALT-DESC;FMTTYPE=text/html:Gun Shy LIVE at the VFW. &nbsp\;<br />\nCountry Music at it&#39\;s finest
LOCATION:VFW 420 W Washington Ave
UID:e.314.36997
SEQUENCE:3
DTSTAMP:20260425T040557Z
URL:https://business.fergusfalls.com/events/details/live-music-at-the-vfw-36997
END:VEVENT

END:VCALENDAR
