BEGIN:VCALENDAR
VERSION:2.0
PRODID:-//ChamberMaster//Event Calendar 2.0//EN
METHOD:PUBLISH
X-PUBLISHED-TTL:P3D
REFRESH-INTERVAL:P3D
CALSCALE:GREGORIAN
BEGIN:VEVENT
DTSTART:20180211T030000Z
DTEND:20180211T055500Z
X-MICROSOFT-CDO-ALLDAYEVENT:FALSE
SUMMARY:Live Music at the Z103
DESCRIPTION:Strange Daze rocks Fergus Falls\, MN!\nSaturday\, Feb 10\n\n9pm-1pm
X-ALT-DESC;FMTTYPE=text/html:<h1 class="_5gmx" data-testid="event-permalink-event-name" id="seo_h1_tag" style="margin: 0px 12px 0px 0px\; padding: 0px\; color: rgb(29\, 33\, 41)\; text-transform: none\; line-height: 28px\; text-indent: 0px\; letter-spacing: normal\; font-family: Helvetica\, Arial\, sans-serif\; font-size: 20px\; font-style: normal\; font-weight: normal\; word-spacing: 0px\; display: block\; white-space: normal\; orphans: 2\; widows: 2\; background-color: rgb(255\, 255\, 255)\; font-variant-ligatures: normal\; font-variant-caps: normal\; -webkit-text-stroke-width: 0px\; text-decoration-style: initial\; text-decoration-color: initial\;">Strange Daze rocks Fergus Falls\, MN!</h1>\nSaturday\, Feb 10<br />\n9pm-1pm<br />\n&nbsp\;
LOCATION:Z103 Bar & Grill 901 Frontier Dr Fergus Falls
UID:e.314.43733
SEQUENCE:3
DTSTAMP:20260424T030400Z
URL:https://business.fergusfalls.com/events/details/live-music-at-the-z103-43733
END:VEVENT

END:VCALENDAR
