BEGIN:VCALENDAR
VERSION:2.0
PRODID:-//ChamberMaster//Event Calendar 2.0//EN
METHOD:PUBLISH
X-PUBLISHED-TTL:P3D
REFRESH-INTERVAL:P3D
CALSCALE:GREGORIAN
BEGIN:VEVENT
DTSTART:20160312T030000Z
DTEND:20160312T055500Z
X-MICROSOFT-CDO-ALLDAYEVENT:FALSE
SUMMARY:Live Music at Z103 Bar & Grill
DESCRIPTION:Live Music at the Z103 Bar & Grill\n\n*57 Chevy Band
X-ALT-DESC;FMTTYPE=text/html:Live Music at the Z103 Bar &amp\; Grill<br />\n*57 Chevy Band
LOCATION:902 Frontier Dr\, Fergus Falls
UID:e.314.31834
SEQUENCE:3
DTSTAMP:20260425T182915Z
URL:https://business.fergusfalls.com/events/details/live-music-at-z103-bar-grill-03-11-2016-31834
END:VEVENT

END:VCALENDAR
