BEGIN:VCALENDAR
VERSION:2.0
PRODID:-//ChamberMaster//Event Calendar 2.0//EN
METHOD:PUBLISH
X-PUBLISHED-TTL:P3D
REFRESH-INTERVAL:P3D
CALSCALE:GREGORIAN
BEGIN:VEVENT
DTSTART:20160227T013000Z
DTEND:20160227T050000Z
X-MICROSOFT-CDO-ALLDAYEVENT:FALSE
SUMMARY:LIVE MUSIC - BIRTHDAY BASH
DESCRIPTION:A celebration with free\, live music from Grindhouse and GuitarSlave. Drink specials for the night. Free appetizer with your meals.
X-ALT-DESC;FMTTYPE=text/html:<span class="_fbReactionComponent__eventDetailsContent fsl">A celebration with free\, live music from Grindhouse and GuitarSlave. Drink specials for the night. Free appetizer with your meals.</span>
LOCATION:The Spot Panini & Wine 220 W Lincoln Ave\, Fergus Falls\, Minnesota 56537
UID:e.314.31683
SEQUENCE:3
DTSTAMP:20260425T214904Z
URL:https://business.fergusfalls.com/events/details/live-music-birthday-bash-02-26-2016-31683
END:VEVENT

END:VCALENDAR
