BEGIN:VCALENDAR
VERSION:2.0
PRODID:-//ChamberMaster//Event Calendar 2.0//EN
METHOD:PUBLISH
X-PUBLISHED-TTL:P3D
REFRESH-INTERVAL:P3D
CALSCALE:GREGORIAN
BEGIN:VEVENT
DTSTART:20160128T230000Z
DTEND:20160128T180000Z
X-MICROSOFT-CDO-ALLDAYEVENT:FALSE
SUMMARY:Live Music Thursdays - Union Pizza & Brewing Co.
DESCRIPTION:Union Pizza & Brewing Co\n\nLive Music Every Thursday!\n\n\n\nJoin us Thursday\, January 28th\, for a night of local\, live music! Harmony Party is a musical duo - Conor Lee and Nik Gruber - and will be joining us from the Fargo/Moorhead area.\n\n\n\nNik Gruber is a guitarist based in Moorhead\, MN. He creates original solo guitar music that strives to blend the concept and harmony of jazz with contemporary rhythms and repertoire. As a performer\, Gruber is equally comfortable playing jazz\, funk\, rock\, and country music and is also the owner/operator of Gruber Guitars (www.gruberguitars.com)\, which specializes in the repair and restoration of stringed instruments\, as well as the construction of custom built guitars.\n\n\n\nFergus Falls native Conor Lee is currently a guitar instructor at Flatland Guitars in Fargo\, ND. He received a Bachelor of Music degree at Minnesota State University Moorhead in Jazz Studies in 2015. Lee is experienced in various styles of music\, such as rock/pop\, jazz\, and folk music. He's written arrangements for various ensembles and has written/recorded original music for film and 3D animation projects.\n\n\n\nCome in for pizza and beer\, stay for live music!
X-ALT-DESC;FMTTYPE=text/html:Union Pizza &amp\; Brewing Co<br />\nLive Music Every Thursday!<br />\n<br />\n<span class="fsl">Join us Thursday\, January 28th\, for a night of local\, live music! Harmony Party is a musical duo - Conor Lee and Nik Gruber - and will be joining us from the Fargo/Moorhead area.<br />\n<br />\nNik Gruber is a guitarist based in Moorhead\, MN. He creates original solo guitar music that strives to blend the concept and harmony of jazz with contemporary rhythms and repertoire. As a performer\, Gruber is equally comfortable playing jazz\, funk\, rock\, and country music and is also the owner/operator of Gruber Guitars (<a href="http://l.facebook.com/l.php?u=http%3A%2F%2Fwww.gruberguitars.com%2F&amp\;h=NAQFL8W0q&amp\;enc=AZORcB2eXm3nmZeuLbeIBOiqyFUXJIsBZLp3VGG2eCH6-jYWBjCSjasYrPUEpyQRDyk&amp\;s=1" rel="nofollow nofollow" target="_blank"><font color="#0066cc">www.gruberguitars.com</font></a>)\, which specializes in the repair and restoration of stringed instruments\, as well as the construction of custom built guitars.<br />\n<br />\nFergus Falls native Conor Lee is currently a guitar instructor at Flatland Guitars in Fargo\, ND. He received a Bachelor of Music degree at Minnesota State University Moorhead in Jazz Studies in 2015. Lee is experienced in various styles of music\, such as rock/pop\, jazz\, and folk music. He&#39\;s written arrangements for various ensembles and has written/recorded original music for film and 3D animation projects.<br />\n<br />\nCome in for pizza and beer\, stay for live music!</span>
LOCATION:114 S. Union Ave Fergus Falls\, Mn
UID:e.314.26250
SEQUENCE:3
DTSTAMP:20260425T233242Z
URL:https://business.fergusfalls.com/events/details/live-music-thursdays-union-pizza-brewing-co-01-28-2016-26250
END:VEVENT

END:VCALENDAR
