BEGIN:VCALENDAR
VERSION:2.0
PRODID:-//ChamberMaster//Event Calendar 2.0//EN
METHOD:PUBLISH
X-PUBLISHED-TTL:P3D
REFRESH-INTERVAL:P3D
CALSCALE:GREGORIAN
BEGIN:VEVENT
DTSTART:20160204T230000Z
DTEND:20160204T180000Z
X-MICROSOFT-CDO-ALLDAYEVENT:FALSE
SUMMARY:Live Music Thursdays - Union Pizza & Brewing Co.
DESCRIPTION:Union Pizza & Brewing Co\n\nThursday\, February 4th\, come into UPBC to see another amazing regional singer/songwriter\, Brianne Lane!\n\n\n\nHailing from the song-rich soil of Minneapolis\, Brianna Lane is the latest in a deluge of compelling songwriters flooding the region. Lane's vocals are both confident and fragile\, running parallels to Mindy Smith or a close confidant to Americana veteran Patty Griffin. Brianna Lane's latest album\, The Navigator's Club\, was released in May 2015. A lot of the songs on the album were written while one relationship was ending and another was beginning\; the songs certainly show hope and desire as well as cynicism and frustration.\n\n\n\nStarts: 7:30 pm\n\nCost: FREE
X-ALT-DESC;FMTTYPE=text/html:Union Pizza &amp\; Brewing Co<br />\n<span class="fsl">Thursday\, February 4th\, come into UPBC to see another amazing regional singer/songwriter\, Brianne Lane!<br />\n<br />\nHailing from the song-rich soil of Minneapolis\, Brianna Lane is the latest in a deluge of compelling songwriters flooding the region. Lane&#39\;s vocals are both confident and fragile\, running parallels to Mindy Smith or a close confidant to Americana veteran Patty Griffin. Brianna Lane&#39\;s latest album\, The Navigator&#39\;s Club\, was released in May 2015. A lot of the songs on the album were written while one relationship was ending and another was beginning\; the songs certainly show hope and desire as well as cynicism and frustration.<br />\n<br />\nStarts: 7:30 pm<br />\nCost: FREE</span><br />\n&nbsp\;
LOCATION:114 S. Union Ave Fergus Falls\, Mn
UID:e.314.26251
SEQUENCE:3
DTSTAMP:20260425T201125Z
URL:https://business.fergusfalls.com/events/details/live-music-thursdays-union-pizza-brewing-co-02-04-2016-26251
END:VEVENT

END:VCALENDAR
