BEGIN:VCALENDAR
VERSION:2.0
PRODID:-//ChamberMaster//Event Calendar 2.0//EN
METHOD:PUBLISH
X-PUBLISHED-TTL:P3D
REFRESH-INTERVAL:P3D
CALSCALE:GREGORIAN
BEGIN:VEVENT
DTSTART:20190502T220000Z
DTEND:20190502T170000Z
X-MICROSOFT-CDO-ALLDAYEVENT:FALSE
SUMMARY:Live Music Thursdays - Union Pizza & Brewing Co.
DESCRIPTION:Union Pizza & Brewing Co\n\nLive Music Every Thursday!
X-ALT-DESC;FMTTYPE=text/html:Union Pizza &amp\; Brewing Co<br />\nLive Music Every Thursday!<br />\n&nbsp\;
LOCATION:114 S. Union Ave Fergus Falls\, Mn
UID:e.314.26420
SEQUENCE:3
DTSTAMP:20260423T050714Z
URL:https://business.fergusfalls.com/events/details/live-music-thursdays-union-pizza-brewing-co-05-02-2019-26420
END:VEVENT

END:VCALENDAR
