BEGIN:VCALENDAR
VERSION:2.0
PRODID:-//ChamberMaster//Event Calendar 2.0//EN
METHOD:PUBLISH
X-PUBLISHED-TTL:P3D
REFRESH-INTERVAL:P3D
CALSCALE:GREGORIAN
BEGIN:VEVENT
DTSTART:20151112T230000Z
DTEND:20151112T180000Z
X-MICROSOFT-CDO-ALLDAYEVENT:FALSE
SUMMARY:Live Music Thursdays - Union Pizza & Brewing Co.
DESCRIPTION:Union Pizza & Brewing Co\n\nLive Music Every Thursday!\n\nCome see The Fancy and the Functional LIVE on Thursday\, November 12th\, here at Union!\n\n\n\nThe Fancy and the Functional are a six-piece folk band based in Fergus Falls.\n\n\n\nThe Band:\n\n\n\nElizabeth Hatling: violin\, piano\, vocals\n\nHeidi Jahr: guitar\, mandolin\, piano\, vocals\n\nLiv Ronnevik: violin\n\nMary Egstad: banjo\n\nEthan Townsend: bass\n\nJeremy Quernemoen: drums\n\n\n\nThis event is FREE and open to the public\, all ages welcome! Grab some hot brick-oven pizza\, cold beers\, wine\, desserts\, hot French-pressed coffee\, sit back and relax - or better yet\, dance!
X-ALT-DESC;FMTTYPE=text/html:Union Pizza &amp\; Brewing Co<br />\nLive Music Every Thursday!<br />\n<span class="fsl">Come see The Fancy and the Functional LIVE on Thursday\, November 12th\, here at Union!<br />\n<br />\nThe Fancy and the Functional are a six-piece folk band based in Fergus Falls.<br />\n<br />\nThe Band:<br />\n<br />\nElizabeth Hatling: violin\, piano\, vocals<br />\nHeidi Jahr: guitar\, mandolin\, piano\, vocals<br />\nLiv Ronnevik: violin<br />\nMary Egstad: banjo<br />\nEthan Townsend: bass<br />\nJeremy Quernemoen: drums<br />\n<br />\nThis event is FREE and open to the public\, all ages welcome! Grab some hot brick-oven pizza\, cold beers\, wine\, desserts\, hot French-pressed coffee\, sit back and relax - or better yet\, dance!</span>
LOCATION:114 S. Union Ave Fergus Falls\, Mn
UID:e.314.26239
SEQUENCE:3
DTSTAMP:20260426T030438Z
URL:https://business.fergusfalls.com/events/details/live-music-thursdays-union-pizza-brewing-co-11-12-2015-26239
END:VEVENT

END:VCALENDAR
