BEGIN:VCALENDAR
VERSION:2.0
PRODID:-//ChamberMaster//Event Calendar 2.0//EN
METHOD:PUBLISH
X-PUBLISHED-TTL:P3D
REFRESH-INTERVAL:P3D
CALSCALE:GREGORIAN
BEGIN:VEVENT
DTSTART:20160219T010000Z
DTEND:20160219T040000Z
X-MICROSOFT-CDO-ALLDAYEVENT:FALSE
SUMMARY:Live Music Thursdays - Union Pizza & Brewing Co. Bruce Springsteen: Celebrating "The Boss" Open Mic Style!
DESCRIPTION:Union Pizza & Brewing -\nBruce Springsteen: Celebrating "The Boss" Open Mic Style!\nFor February's artist "pick" we'll be celebrating The Boss in all of his fiery glory! Come down to UPBC on Thursday\, February 18th to perform YOUR favorite Springsteen tune(s). Feel free to bring your own instruments\, but we will have guitars\, mandolin\, drums\, cajon\, and harmonica available for you to use. Want to sign up for a song/set? Feel free to do so in the comments section right here on the event page!\n\n\n\nThis is a FREE evening of fun open to all ages\, so bring the kids! Come support our local music scene!
X-ALT-DESC;FMTTYPE=text/html:Union Pizza &amp\; Brewing -\n<div><span class="_5v1l _11s4"><a href="https://www.facebook.com/events/565380683617967/?ref=1&amp\;action_history=%5B%7B%22surface%22%3A%22permalink%22%2C%22mechanism%22%3A%22surface%22%2C%22extra_data%22%3A%5B%5D%7D%5D"><font color="#0066cc">Bruce Springsteen: Celebrating &quot\;The Boss&quot\; Open Mic Style!</font></a></span></div>\n<span class="fsl">For February&#39\;s artist &quot\;pick&quot\; we&#39\;ll be celebrating The Boss in all of his fiery glory! Come down to UPBC on Thursday\, February 18th to perform YOUR favorite Springsteen tune(s). Feel free to bring your own instruments\, but we will have guitars\, mandolin\, drums\, cajon\, and harmonica available for you to use. Want to sign up for a song/set? Feel free to do so in the comments section right here on the event page!<br />\n<br />\nThis is a FREE evening of fun open to all ages\, so bring the kids! Come support our local music scene!</span><br />\n&nbsp\;
LOCATION:114 S. Union Ave Fergus Falls\, Mn
UID:e.314.26253
SEQUENCE:3
DTSTAMP:20260425T215651Z
URL:https://business.fergusfalls.com/events/details/live-music-thursdays-union-pizza-brewing-co-bruce-springsteen-celebrating-the-boss-open-mic-style-02-18-2016-26253
END:VEVENT

END:VCALENDAR
