BEGIN:VCALENDAR
VERSION:2.0
PRODID:-//ChamberMaster//Event Calendar 2.0//EN
METHOD:PUBLISH
X-PUBLISHED-TTL:P3D
REFRESH-INTERVAL:P3D
CALSCALE:GREGORIAN
BEGIN:VEVENT
DTSTART:20160121T230000Z
DTEND:20160121T180000Z
X-MICROSOFT-CDO-ALLDAYEVENT:FALSE
SUMMARY:Live Music - Union Pizza & Brewing Co. featuring Mike Munson
DESCRIPTION:Union Pizza & Brewing Co\n\nLive Music!\n\n\n\nRooted in Blues\, Mike Munson fills the stage with a fluid combination of skilled finger-picking and masterful slide guitar. Influenced by the likes of John Lee Hooker and Mississippi John Hurt\, his songs tell raw stories of work\, travel\, and loss.\n\n\n\nSince the Summer of 2011\, Munson has had a Sunday night residency at Ed's (no name) Bar in Winona\, MN. He performs throughout the region\, including regular appearances in Duluth\, MN\, La Crosse\, WI\, and the Twin Cities area. He has shared the stage with Charlie Parr and Joe and Vicki price on multiple occasions\, among others!\n\n\n\nCome enjoy the sweet\, bluesy sounds of Mike Munson on Thursday\, Jan. 21st\, as part of our Thursday Night Live Music Series! Show starts at 7pm and is FREE.\n\n\n\nLearn more about him and hear some of his music here:\n\n\n\nwww.facebook.com/mikemunson\n\nwww.mikemunson.net
X-ALT-DESC;FMTTYPE=text/html:Union Pizza &amp\; Brewing Co<br />\nLive Music!<br />\n<br />\n<span class="fsl">Rooted in Blues\, Mike Munson fills the stage with a fluid combination of skilled finger-picking and masterful slide guitar. Influenced by the likes of John Lee Hooker and Mississippi John Hurt\, his songs tell raw stories of work\, travel\, and loss.<br />\n<br />\nSince the Summer of 2011\, Munson has had a Sunday night residency at Ed&#39\;s (no name) Bar in Winona\, MN. He performs throughout the region\, including regular appearances in Duluth\, MN\, La Crosse\, WI\, and the Twin Cities area. He has shared the stage with Charlie Parr and Joe and Vicki price on multiple occasions\, among others!<br />\n<br />\nCome enjoy the sweet\, bluesy sounds of Mike Munson on Thursday\, Jan. 21st\, as part of our Thursday Night Live Music Series! Show starts at 7pm and is FREE.<br />\n<br />\nLearn more about him and hear some of his music here:<br />\n<br />\n<a href="http://www.facebook.com/mikemunson" rel="nofollow"><font color="#0066cc">www.facebook.com/<wbr /></font><font color="#0066cc">mikemunson</font></a><br />\n<a href="http://www.mikemunson.net/" rel="nofollow nofollow" target="_blank"><font color="#0066cc">www.mikemunson.net</font></a></span><br />\n&nbsp\;
LOCATION:114 S. Union Ave Fergus Falls\, Mn
UID:e.314.26249
SEQUENCE:3
DTSTAMP:20260425T233233Z
URL:https://business.fergusfalls.com/events/details/live-music-union-pizza-brewing-co-featuring-mike-munson-01-21-2016-26249
END:VEVENT

END:VCALENDAR
