BEGIN:VCALENDAR
VERSION:2.0
PRODID:-//ChamberMaster//Event Calendar 2.0//EN
METHOD:PUBLISH
X-PUBLISHED-TTL:P3D
REFRESH-INTERVAL:P3D
CALSCALE:GREGORIAN
BEGIN:VEVENT
DTSTART:20190119T023000Z
DTEND:20190119T053000Z
X-MICROSOFT-CDO-ALLDAYEVENT:FALSE
SUMMARY:Live Music - VFW
DESCRIPTION:VFW - Live Music -\n\n \nSidewinder returns to the VFW Post 612 Fri Jan 18th. Classic arena rock from the 80's & 90's will be blasting the paint off the walls so you don't wanna miss it. One night only!
X-ALT-DESC;FMTTYPE=text/html:VFW - Live Music -<br />\n&nbsp\;\n<div class="_63ew" data-testid="event-permalink-details"><span>Sidewinder returns to the VFW Post 612 Fri Jan 18th. Classic arena rock from the 80&#39\;s &amp\; 90&#39\;s will be blasting the paint off the walls so you don&#39\;t wanna miss it. One night only!</span></div>\n
LOCATION:VFW Washinton Ave Fergus Falls MN
UID:e.314.52443
SEQUENCE:3
DTSTAMP:20260423T105243Z
URL:https://business.fergusfalls.com/events/details/live-music-vfw-52443
END:VEVENT

END:VCALENDAR
