BEGIN:VCALENDAR
VERSION:2.0
PRODID:-//ChamberMaster//Event Calendar 2.0//EN
METHOD:PUBLISH
X-PUBLISHED-TTL:P3D
REFRESH-INTERVAL:P3D
CALSCALE:GREGORIAN
BEGIN:VEVENT
DTSTART:20161124T030000Z
DTEND:20161124T060000Z
X-MICROSOFT-CDO-ALLDAYEVENT:FALSE
SUMMARY:Live Music @ Z103
DESCRIPTION:Come check out Confusion at the Z103! $5.00 cover charge.
X-ALT-DESC;FMTTYPE=text/html:Come check out Confusion at the Z103! $5.00 cover charge.
LOCATION:902 Frontier Dr Fergus Falls\, Minnesota
UID:e.314.36993
SEQUENCE:3
DTSTAMP:20260425T040505Z
URL:https://business.fergusfalls.com/events/details/live-music-z103-36993
END:VEVENT

END:VCALENDAR
