BEGIN:VCALENDAR
VERSION:2.0
PRODID:-//ChamberMaster//Event Calendar 2.0//EN
METHOD:PUBLISH
X-PUBLISHED-TTL:P3D
REFRESH-INTERVAL:P3D
CALSCALE:GREGORIAN
BEGIN:VEVENT
DTSTART:20200526T123000Z
DTEND:20200526T130000Z
X-MICROSOFT-CDO-ALLDAYEVENT:FALSE
SUMMARY:Live Q&A: Emergency Funding for Small Businesses
DESCRIPTION:Join us on Facebook for a brief Q&A about emergency funding available to businesses in our area. West Central Initiative (WCI) is an approved lender of MNDEED's Small Business Emergency Loan program\, an interest-free loan from $2\,500 to $35\,000. The loan may also be partially forgivable. If your business has been impacted by Executive Order 20-04 and 20-08 (mandated closures)\, we encourage you to take a few minutes to learn about this program. \n\n\n\nDrop your questions in the comments section during the live stream for a Q&A with WCI's Greg Wagner.\n\n\n\n*No registration required\, just watch our Facebook page for the live stream.
X-ALT-DESC;FMTTYPE=text/html:<span style="color:rgb(29\, 33\, 41)\; font-family:helvetica\,arial\,sans-serif\; font-size:14px">Join us on Facebook for a brief Q&amp\;A about emergency funding available to businesses in our area. West Central Initiative (WCI) is an approved lender of MNDEED&#39\;s Small Business Emergency Loan program\, an interest-free loan from $2\,500 to $35\,000. The loan may also be partially forgivable. If your business has been impacted by Executive Order 20-04 and 20-08 (mandated closures)\, we encourage you to take a few minutes to learn about this program. </span><br />\n<br />\n<span style="color:rgb(29\, 33\, 41)\; font-family:helvetica\,arial\,sans-serif\; font-size:14px">Drop your questions in the comments section during the live stream for a Q&amp\;A with WCI&#39\;s Greg Wagner.</span><br />\n<br />\n<span style="color:rgb(29\, 33\, 41)\; font-family:helvetica\,arial\,sans-serif\; font-size:14px">*No registration required\, just watch our Facebook page for the live stream. </span>
LOCATION:Facebook live: @GreaterFF
UID:e.314.57440
SEQUENCE:3
DTSTAMP:20260422T112702Z
URL:https://business.fergusfalls.com/events/details/live-q-a-emergency-funding-for-small-businesses-57440
END:VEVENT

END:VCALENDAR
