BEGIN:VCALENDAR
VERSION:2.0
PRODID:-//ChamberMaster//Event Calendar 2.0//EN
METHOD:PUBLISH
X-PUBLISHED-TTL:P3D
REFRESH-INTERVAL:P3D
CALSCALE:GREGORIAN
BEGIN:VEVENT
DTSTART:20200504T170000Z
DTEND:20200504T173000Z
X-MICROSOFT-CDO-ALLDAYEVENT:FALSE
SUMMARY:Live Q&A w/ Chief Bergren: Supporting Our Business Community & Public Health
DESCRIPTION:The health and success of our business community and residents is crucial to us\, and we've invited Fergus Falls Police Department Chief of Public Safety\, Kile Bergren\, to join us on Monday\, May 4th\, for a Facebook Live event.\n\n\n\nWe will discuss a variety of topics as it pertains to re-opening your business\, what that could look like\, and how\, as customers\, we can best position ourselves to support our business community\, while keeping health and safety a priority.\n\n\n\nWe are #BettterTogether
X-ALT-DESC;FMTTYPE=text/html:<span style="color:rgb(60\, 64\, 67)\; font-family:roboto\,helvetica\,arial\,sans-serif\; font-size:14px">The health and success of our business community and residents is crucial to us\, and we&#39\;ve invited&nbsp\;</span><a href="https://www.facebook.com/FergusFallsPD/" style="color: rgb(26\, 115\, 232)\; cursor: auto\; font-family: Roboto\, Helvetica\, Arial\, sans-serif\; font-size: 14px\; background-color: rgb(241\, 243\, 244)\;">Fergus Falls Police Department</a><span style="color:rgb(60\, 64\, 67)\; font-family:roboto\,helvetica\,arial\,sans-serif\; font-size:14px">&nbsp\;Chief of Public Safety\, Kile Bergren\, to join us on Monday\, May 4th\, for a Facebook Live event.</span><br />\n<br />\n<span style="color:rgb(60\, 64\, 67)\; font-family:roboto\,helvetica\,arial\,sans-serif\; font-size:14px">We will discuss a variety of topics as it pertains to re-opening your business\, what that could look like\, and how\, as customers\, we can best position ourselves to support our business community\, while keeping health and safety a priority.</span><br />\n<br />\n<span style="color:rgb(60\, 64\, 67)\; font-family:roboto\,helvetica\,arial\,sans-serif\; font-size:14px">We are&nbsp\;</span><a href="https://www.facebook.com/hashtag/betttertogether" style="color: rgb(26\, 115\, 232)\; cursor: auto\; font-family: Roboto\, Helvetica\, Arial\, sans-serif\; font-size: 14px\; background-color: rgb(241\, 243\, 244)\;">#BettterTogether</a><span style="color:rgb(60\, 64\, 67)\; font-family:roboto\,helvetica\,arial\,sans-serif\; font-size:14px">&nbsp\;&hearts\;</span><span style="color:rgb(60\, 64\, 67)\; font-family:roboto\,helvetica\,arial\,sans-serif\; font-size:14px">&nbsp\;&nbsp\;</span>
LOCATION:Facebook Live event from Greater Fergus Falls @GreaterFF
UID:e.314.57389
SEQUENCE:3
DTSTAMP:20260422T100230Z
URL:https://business.fergusfalls.com/events/details/live-q-a-w-chief-bergren-supporting-our-business-community-public-health-57389
END:VEVENT

END:VCALENDAR
