BEGIN:VCALENDAR
VERSION:2.0
PRODID:-//ChamberMaster//Event Calendar 2.0//EN
METHOD:PUBLISH
X-PUBLISHED-TTL:P3D
REFRESH-INTERVAL:P3D
CALSCALE:GREGORIAN
BEGIN:VEVENT
DTSTART:20190319T180000Z
DTEND:20190319T200000Z
X-MICROSOFT-CDO-ALLDAYEVENT:FALSE
SUMMARY:Living with Parkinson's: Mind\, Mood & Motion
DESCRIPTION:Changes in thinking and memory can affect both people with Parkinson's and their care partners\, family and friends. The Mind\, Mood\, and Motion program will teach participants about these changes and the steps they can take in their daily lives to reduce the effects these symptoms might have. People with Parkinson's\, their family\, care partners\, and anyone serving the Parkinson's community are welcome to attend. Speaker: Dr. Tanya Harlow\, MD and Andrea Hanson\, NP Register Now! Parkinson.org/MN-Fargo Sanford Health
X-ALT-DESC;FMTTYPE=text/html:Changes in thinking and memory can affect both people with Parkinson&rsquo\;s and their care partners\, family and friends. The Mind\, Mood\, and Motion program will teach participants about these changes and the steps they can take in their daily lives to reduce the effects these symptoms might have. People with Parkinson&#39\;s\, their family\, care partners\, and anyone serving the Parkinson&#39\;s community are welcome to attend. Speaker: Dr. Tanya Harlow\, MD and Andrea Hanson\, NP Register Now! Parkinson.org/MN-Fargo Sanford Health
LOCATION:Avalon Event Center 2525 9th Ave S Fargo\, ND 58103
UID:e.314.52575
SEQUENCE:3
DTSTAMP:20260423T092554Z
URL:https://business.fergusfalls.com/events/details/living-with-parkinson-s-mind-mood-motion-52575
END:VEVENT

END:VCALENDAR
