BEGIN:VCALENDAR
VERSION:2.0
PRODID:-//ChamberMaster//Event Calendar 2.0//EN
METHOD:PUBLISH
X-PUBLISHED-TTL:P3D
REFRESH-INTERVAL:P3D
CALSCALE:GREGORIAN
BEGIN:VEVENT
DTSTART:20191017T233000Z
DTEND:20191018T010000Z
X-MICROSOFT-CDO-ALLDAYEVENT:FALSE
SUMMARY:Love & Logic Parenting Workshop
DESCRIPTION:The Naz is so excited to be able to host this parenting workshop for the Fergus Falls community. Love & Logic is a six week\, high level training that equips parents with PRACTICAL tools to navigate any stage of parenting. *This is a highly utilized practice for teachers needing classroom management help as well! Teachers welcome! To get an idea of what this training offers click here: https://www.loveandlogic.com/love-and-logic-reviews
X-ALT-DESC;FMTTYPE=text/html:The Naz is so excited to be able to host this parenting workshop for the Fergus Falls community. Love &amp\; Logic is a six week\, high level training that equips parents with PRACTICAL tools to navigate any stage of parenting. *This is a highly utilized practice for teachers needing classroom management help as well! Teachers welcome! To get an idea of what this training offers click here: https://www.loveandlogic.com/love-and-logic-reviews
LOCATION:The Naz 1319 N. Cleveland Dr. Fergus Falls\, MN
UID:e.314.54753
SEQUENCE:3
DTSTAMP:20260422T222037Z
URL:https://business.fergusfalls.com/events/details/love-logic-parenting-workshop-10-17-2019-54753
END:VEVENT

END:VCALENDAR
