BEGIN:VCALENDAR
VERSION:2.0
PRODID:-//ChamberMaster//Event Calendar 2.0//EN
METHOD:PUBLISH
X-PUBLISHED-TTL:P3D
REFRESH-INTERVAL:P3D
CALSCALE:GREGORIAN
BEGIN:VEVENT
DTSTART:20180702T213000Z
DTEND:20180730T223000Z
X-MICROSOFT-CDO-ALLDAYEVENT:FALSE
SUMMARY:"Love146 – Not A Number\, Facilitated Empowerment Group with Prevention Education for All YOUTH\, ages 12-18\, 5 sessions
DESCRIPTION:This prevention education through empowerment group(s) is (are) designed to bring awareness and educate of the risks that may be associated with and for\, Human Trafficking and Sexual Exploitation. Recognizing the signs of vulnerabilities or risks that youth may experience\, will help reduce their chances of being human trafficked or sexually exploited. This prevention education is designed to empower our youth to recognize those signs. The primary prevention education consists of learning what sexual exploitation is\, healthy relationships\, what consent is and age of consent\, safer social media\, risks and vulnerabilities and where to find support and help within our area.
X-ALT-DESC;FMTTYPE=text/html:This prevention education through empowerment group(s) is (are) designed to bring awareness and educate of the risks that may be associated with and for\, Human Trafficking and Sexual Exploitation. Recognizing the signs of vulnerabilities or risks that youth may experience\, will help reduce their chances of being human trafficked or sexually exploited. This prevention education is designed to empower our youth to recognize those signs. The primary prevention education consists of learning what sexual exploitation is\, healthy relationships\, what consent is and age of consent\, safer social media\, risks and vulnerabilities and where to find support and help within our area.
LOCATION:Fergus Falls Someplace Safe office\, 106 S Union\, Fergus Falls\, MN 56538
UID:e.314.49989
SEQUENCE:3
DTSTAMP:20260423T200430Z
URL:https://business.fergusfalls.com/events/details/love146-not-a-number-facilitated-empowerment-group-with-prevention-education-for-all-youth-ages-12-18-5-sessions-49989
END:VEVENT

END:VCALENDAR
