BEGIN:VCALENDAR
VERSION:2.0
PRODID:-//ChamberMaster//Event Calendar 2.0//EN
METHOD:PUBLISH
X-PUBLISHED-TTL:P3D
REFRESH-INTERVAL:P3D
CALSCALE:GREGORIAN
BEGIN:VEVENT
DTSTART:20171113T234500Z
DTEND:20171114T004500Z
X-MICROSOFT-CDO-ALLDAYEVENT:FALSE
SUMMARY:LRH Living Well Series: Vaccinations and Immunizations at Every Age.
DESCRIPTION:(FERGUS FALLS\, Minn.)   Lake Region Healthcare's (LRH) Living Well Series for November will feature the topic "Vaccinations and Immunizations: What You Need to Know at Every Age" at 5:45pm on Monday\, November 13 in the Fergus Falls Clinic Main lobby. \n\n \n\nAmy Fisher\, Pediatric Nurse Practitioner\, along with Rebecca Michael\, mom of a preemie\, will address the importance of getting vaccines as an adult and as children.  Attendees will learn the facts behind some of the myths & rumors and hear firsthand from a mom of a vulnerable preemie about protecting yourself and others from serious illness. \n\n \n\n"When our second daughter was born 17 weeks early (she was 1 lb 6 oz and 11.5 inches long)\, we were thrown into the world of extreme prematurity\," said parent and session speaker\, Becca Michaels. "Despite her early arrival\, she received her vaccinations on schedule\, the same as a full-term baby. There was absolutely no way we were going to risk her getting a disease that we could prevent--we had enough to worry about with diseases and issues we couldn't prevent\," Michaels added. \n\n \n\n"Becca's story will set a great framework for this Living Well session. Over the past 30 years\, the decline in pediatric illnesses that respond to vaccines has dropped dramatically and this should be a serious concern for all parents and for our community\," Fisher said. "I hope this session will help us all better understand the risks and rewards to ourselves and to our community as it relates to vaccinations & immunizations\," she added. \n\n \n\nThe Living Well educational forums are held the second Monday of each month in the Lake Region Healthcare Clinic Services Lobby at 111 E Vernon Ave in Fergus Falls. Each month\, knowledgeable professionals present on such topics as trends in diet & exercise\, diabetes prevention\, reading labels at the grocery store and much more. \n\n \n\nAll sessions are free and open to the public\, but registration is requested to plan for refreshments. Please call 218.736.8699 or email livingwell@lrhc.org for information or to register. Individual session topics and details for future Living Well sessions are available on the "Calendar" link under the Health & Wellness tab at www.lrhc.org.
X-ALT-DESC;FMTTYPE=text/html:<span style="font-family:calibri\,sans-serif\;"><span style="font-size:10.0pt\;">(FERGUS FALLS\, Minn.) &ndash\; </span></span><span style="font-family:calibri\,sans-serif\;"><span style="font-size:12.0pt\;">Lake Region H</span></span><span style="font-family:calibri\,sans-serif\;"><span style="font-size:12.0pt\;">ealthcare&rsquo\;s (LRH) Living Well Series for November will feature the topic &ldquo\;Vaccinations and Immunizations: What You Need to Know at Every Age&rdquo\; at 5:45pm on Monday\, November 13 in the Fergus Falls Clinic Main lobby. </span></span><br />\n&nbsp\;<br />\n<span style="font-family:calibri\,sans-serif\;"><span style="font-size:12.0pt\;">Amy Fisher\, Pediatric Nurse Practitioner\, along with Rebecca Michael\, mom of a preemie\, will address the importance of getting vaccines as an adult and as children.&nbsp\; Attendees will learn the facts behind some of the myths &amp\; rumors and hear firsthand from a mom of a vulnerable preemie about protecting yourself and others from serious illness. </span></span><br />\n&nbsp\;<br />\n<span style="font-family:calibri\,sans-serif\;"><span style="font-size:12.0pt\;">&ldquo\;</span></span><span style="color:black\;"><span style="font-family:calibri\,sans-serif\;">When our second daughter was born 17 weeks early&nbsp\;(she was 1 lb 6 oz and 11.5 inches long)\, we were thrown into the world of extreme prematurity\,&rdquo\; said parent and session speaker\, Becca Michaels. &ldquo\;Despite her early arrival\, she received her vaccinations on schedule\, the same as a full-term baby. There was absolutely no way we were going to risk her getting a disease that we could prevent--we had enough to worry about with diseases and issues we <em>couldn&#39\;t</em> prevent\,&rdquo\; Michaels added. </span></span><br />\n&nbsp\;<br />\n<span style="font-family:calibri\,sans-serif\;"><span style="font-size:12.0pt\;">&ldquo\;Becca&rsquo\;s story will set a great framework for this <em>Living Well</em> session. Over the past 30 years\, the decline in pediatric illnesses that respond to vaccines has dropped dramatically and this should be a serious concern for all parents and for our community\,&rdquo\; Fisher said. &ldquo\;I hope this session will help us all better understand the risks and rewards to ourselves and to our community as it relates to vaccinations &amp\; immunizations\,&rdquo\; she added. </span></span><br />\n&nbsp\;<br />\n<span style="font-family:calibri\,sans-serif\;"><span style="font-size:12.0pt\;">The Living Well educational forums are held the second Monday of each month in the Lake Region Healthcare Clinic Services Lobby at 111 E Vernon Ave in Fergus Falls. Each month\, knowledgeable professionals present on such topics as trends in diet &amp\; exercise\, diabetes prevention\, reading labels at the grocery store and much more. </span></span><br />\n&nbsp\;<br />\n<span style="font-family:calibri\,sans-serif\;"><span style="font-size:12.0pt\;">All sessions are free and open to the public\, but registration is requested to plan for refreshments. Please call 218.736.8699 or email </span></span><a href="mailto:livingwell@lrhc.org"><span style="font-family:calibri\,sans-serif\;"><span style="font-size:12.0pt\;">livingwell@lrhc.org</span></span></a><span style="font-family:calibri\,sans-serif\;"><span style="font-size:12.0pt\;"> for information or to register. Individual session topics and details for future Living Well sessions are available on the &ldquo\;Calendar&rdquo\; link under the Health &amp\; Wellness tab at </span></span><a href="http://www.lrhc.org/"><span style="font-family:calibri\,sans-serif\;"><span style="font-size:12.0pt\;">www.lrhc.org</span></span></a><span style="font-family:calibri\,sans-serif\;"><span style="font-size:12.0pt\;">.&nbsp\;</span></span>
LOCATION:Fergus Falls Clinic Main lobby.
UID:e.314.43052
SEQUENCE:3
DTSTAMP:20260424T074637Z
URL:https://business.fergusfalls.com/events/details/lrh-living-well-series-vaccinations-and-immunizations-at-every-age-43052
END:VEVENT

END:VCALENDAR
