BEGIN:VCALENDAR
VERSION:2.0
PRODID:-//ChamberMaster//Event Calendar 2.0//EN
METHOD:PUBLISH
X-PUBLISHED-TTL:P3D
REFRESH-INTERVAL:P3D
CALSCALE:GREGORIAN
BEGIN:VEVENT
DTSTART:20180929T220000Z
DTEND:20180930T020000Z
X-MICROSOFT-CDO-ALLDAYEVENT:FALSE
SUMMARY:LRH Shatter the Silence Luminary 5K Run/Half 5K walk
DESCRIPTION:2nd Annual Suicide Prevention and Awareness Luminary run/walk. This year's event will start with a 5K run\, followed by a half 5K (1.55miles) luminary walk down beautiful Central Lakes trail.
X-ALT-DESC;FMTTYPE=text/html:2nd Annual Suicide Prevention and Awareness Luminary run/walk. This year&#39\;s event will start with a 5K run\, followed by a half 5K (1.55miles) luminary walk down beautiful Central Lakes trail.
LOCATION:DeLagoon Park Shelter #1/Central Lakes Trail Fergus Falls MN
UID:e.314.50306
SEQUENCE:3
DTSTAMP:20260423T165429Z
URL:https://business.fergusfalls.com/events/details/lrh-shatter-the-silence-luminary-5k-run-half-5k-walk-50306
END:VEVENT

END:VCALENDAR
