BEGIN:VCALENDAR
VERSION:2.0
PRODID:-//ChamberMaster//Event Calendar 2.0//EN
METHOD:PUBLISH
X-PUBLISHED-TTL:P3D
REFRESH-INTERVAL:P3D
CALSCALE:GREGORIAN
BEGIN:VEVENT
DTSTART:20151028T170000Z
DTEND:20151028T180000Z
X-MICROSOFT-CDO-ALLDAYEVENT:FALSE
SUMMARY:Lunch Hour Body Pump 12 Noon Anytime Fitness
DESCRIPTION:Lunch Hour Body Pump @ Anytime Fitness\n\n12 noon\n\nMonday & Wed\n\nOct 26th & Oct 28th
X-ALT-DESC;FMTTYPE=text/html:<strong>Lunch Hour Body Pump @ Anytime Fitness<br>\n12 noon<br>\nMonday &amp\; Wed<br>\nOct 26th &amp\; Oct 28th </strong>
LOCATION:120 1/2 West Cavour City Center Mall Fergus Falls\, MN 56537 (218) 998-4424
UID:e.314.25945
SEQUENCE:3
DTSTAMP:20260426T030754Z
URL:https://business.fergusfalls.com/events/details/lunch-hour-body-pump-12-noon-anytime-fitness-10-28-2015-25945
END:VEVENT

END:VCALENDAR
