BEGIN:VCALENDAR
VERSION:2.0
PRODID:-//ChamberMaster//Event Calendar 2.0//EN
METHOD:PUBLISH
X-PUBLISHED-TTL:P3D
REFRESH-INTERVAL:P3D
CALSCALE:GREGORIAN
BEGIN:VEVENT
DTSTART:20160303T173000Z
DTEND:20160303T190000Z
X-MICROSOFT-CDO-ALLDAYEVENT:FALSE
SUMMARY:Lunch & Learn: Workplace Safety Tips Session II
DESCRIPTION:2nd Session Added: Thursday\, March 3\n\nIncrease the Safety of Your Workplace Now\n\nThe Chamber of Commerce is partnering with the Fergus Falls Police Department to help businesses improve safety in the workplace.\n\nChief of Public Safety\, Kile Bergren\, will present Workplace Safety and Violence Prevention Tips. He will help businesses determine where their vulnerabilities are and how to remedy them. Sometimes\, employees are unexpectedly in dangerous situations and Bergren will offer tips for dealing with these types of potentially violent encounters:\n\n	Strangers -- difficult\, agitated or enraged customers -- how to diffuse the situation\n	Co-workers who become angry\n	Domestic situations that transfer into the workplace\n	Dealing with people under the influence or battling mental illness\n\nThis seminar is designed for business owners\, both large and small\, general managers\, front-line managers\, customer service employees\, HR professionals and anyone else who is interested in improving the safety of their work environment.\n\nThis Lunch & Learn is FREE for Chamber Members\, but space is limited\, so you must RSVP to the Chamber\n\nBring your own lunch.\n\n$20 General Public
X-ALT-DESC;FMTTYPE=text/html:<strong>2nd Session Added: Thursday\, March 3<br />\nIncrease the Safety of Your Workplace Now</strong><br />\nThe Chamber of Commerce is partnering with the Fergus Falls Police Department to help businesses improve safety in the workplace.<br />\nChief of Public Safety\, Kile Bergren\, will present Workplace Safety and Violence Prevention Tips. He will help businesses determine where their vulnerabilities are and how to remedy them. Sometimes\, employees are unexpectedly in dangerous situations and Bergren will offer tips for dealing with these types of potentially violent encounters:\n<ul>\n	<li>Strangers --&nbsp\;difficult\, agitated or&nbsp\;enraged customers -- how to diffuse the situation</li>\n	<li>Co-workers who become angry</li>\n	<li>Domestic situations that transfer into the workplace</li>\n	<li>Dealing with people under the influence or battling mental illness</li>\n</ul>\nThis seminar is designed for business owners\, both large and small\, general managers\, front-line managers\, customer service employees\, HR professionals and anyone else who is interested in improving the safety of their work environment.<br />\nThis Lunch &amp\; Learn is FREE for Chamber Members\, but space is limited\, so you must RSVP to the Chamber<br />\nBring your own lunch.<br />\n$20 General Public
LOCATION:Fergus Falls Police Department Conference Room 122 W. Junius Ave. Fergus Falls\, MN Use parking lots\, enter on Junius Ave.
UID:e.314.31112
SEQUENCE:3
DTSTAMP:20260425T181526Z
URL:https://business.fergusfalls.com/events/details/lunch-learn-workplace-safety-tips-session-ii-03-03-2016-31112
END:VEVENT

END:VCALENDAR
