BEGIN:VCALENDAR
VERSION:2.0
PRODID:-//ChamberMaster//Event Calendar 2.0//EN
METHOD:PUBLISH
X-PUBLISHED-TTL:P3D
REFRESH-INTERVAL:P3D
CALSCALE:GREGORIAN
BEGIN:VEVENT
DTSTART:20180201T160000Z
DTEND:20180201T183000Z
X-MICROSOFT-CDO-ALLDAYEVENT:FALSE
SUMMARY:Lydia Lane Open House & Dedication
DESCRIPTION:Let's gather at 111 Lydia Lane - the house that YOU helped to build - to celebrate and dedicate the Kiemle's new home!\n\n\n\nLydia Lane Open House & Dedication \n\n\n\n \n\nLydia Lane Open House & Dedication\n\n Hosted by Fergus Falls Area Habitat for Humanity\n\nOpen House from 10:00 - 12:00\n\nHome Dedication Ceremony - 12:15 - 12:30\n\n\n\nAll Habitat supporters are welcome!
X-ALT-DESC;FMTTYPE=text/html:<span class="_4n-j _3cht fsl" data-testid="event-permalink-details">Let&#39\;s gather at 111 Lydia Lane - the house that YOU helped to build - to celebrate and dedicate the Kiemle&#39\;s new home!<br />\n<br />\n<strong>Lydia Lane Open House &amp\; Dedication </strong></span><br />\n<br />\n&nbsp\;\n<div class="_5gmw">\n<h1 class="_5gmx" data-testid="event-permalink-event-name" id="seo_h1_tag">Lydia Lane Open House &amp\; Dedication</h1>\n\n<div content="Fergus Falls Area Habitat for Humanity" data-testid="event_permalink_feature_line" style="display: inline\;">&nbsp\;Hosted by <a data-hovercard="/ajax/hovercard/page.php?id=737406352979085" data-hovercard-position="below" href="https://www.facebook.com/fergusfallsareahabitat/"><font color="#0066cc">Fergus Falls Area Habitat for Humanity</font></a></div>\n</div>\n<span class="_4n-j _3cht fsl" data-testid="event-permalink-details">Open House from 10:00 - 12:00<br />\nHome Dedication Ceremony - 12:15 - 12:30<br />\n<br />\nAll Habitat supporters are welcome!</span>
LOCATION:
UID:e.314.43818
SEQUENCE:3
DTSTAMP:20260424T025134Z
URL:https://business.fergusfalls.com/events/details/lydia-lane-open-house-dedication-43818
END:VEVENT

END:VCALENDAR
