BEGIN:VCALENDAR
VERSION:2.0
PRODID:-//ChamberMaster//Event Calendar 2.0//EN
METHOD:PUBLISH
X-PUBLISHED-TTL:P3D
REFRESH-INTERVAL:P3D
CALSCALE:GREGORIAN
BEGIN:VEVENT
DTSTART:20190525T140000Z
DTEND:20190525T230000Z
X-MICROSOFT-CDO-ALLDAYEVENT:FALSE
SUMMARY:M State 100
DESCRIPTION:New (temporary?) name! New venue! New date! Same great circular century ride!\n\n\n\nThis winter took a toll on the road around Lake Alice\, and once all the snow melted we realized that it's not in the kind of shape that would provide a safe\, comfortable ride experience.\n\n\n\nThankfully our friends at M-State Fergus Falls came to the rescue! So we'll be circling the campus this year!\n\n\n\nMore info about the ride will be posted soon\, so in the meantime be sure to get the date on your calendar!
X-ALT-DESC;FMTTYPE=text/html:<div class="_63ew" data-testid="event-permalink-details"><span>New (temporary?) name! New venue! New date! Same great circular century ride!<br />\n<br />\nThis winter took a toll on the road around Lake Alice\, and once all the snow melted we realized that it&rsquo\;s not in the kind of shape that would provide a safe\, comfortable ride experience.<br />\n<br />\nThankfully our friends at M-State Fergus Falls came to the rescue! So we&rsquo\;ll be circling the campus this year!<br />\n<br />\nMore info about the ride will be posted soon\, so in the meantime be sure to get the date on your calendar!</span></div>\n
LOCATION:M State Fergus Falls 1414 College Way\, Fergus Falls\, Minnesota 56537
UID:e.314.53967
SEQUENCE:3
DTSTAMP:20260423T050019Z
URL:https://business.fergusfalls.com/events/details/m-state-100-53967
END:VEVENT

END:VCALENDAR
