BEGIN:VCALENDAR
VERSION:2.0
PRODID:-//ChamberMaster//Event Calendar 2.0//EN
METHOD:PUBLISH
X-PUBLISHED-TTL:P3D
REFRESH-INTERVAL:P3D
CALSCALE:GREGORIAN
BEGIN:VEVENT
DTSTART:20151212T013000Z
DTEND:20151212T033000Z
X-MICROSOFT-CDO-ALLDAYEVENT:FALSE
SUMMARY:M State Band Concert
DESCRIPTION:Band Concert
X-ALT-DESC;FMTTYPE=text/html:<strong>Band Concert </strong>
LOCATION:Waage Theatre 1414 College Way Fergus Falls
UID:e.314.26908
SEQUENCE:3
DTSTAMP:20260425T232804Z
URL:https://business.fergusfalls.com/events/details/m-state-band-concert-12-11-2015-26908
END:VEVENT

END:VCALENDAR
