BEGIN:VCALENDAR
VERSION:2.0
PRODID:-//ChamberMaster//Event Calendar 2.0//EN
METHOD:PUBLISH
X-PUBLISHED-TTL:P3D
REFRESH-INTERVAL:P3D
CALSCALE:GREGORIAN
BEGIN:VEVENT
DTSTART:20160423T003000Z
DTEND:20160423T013000Z
X-MICROSOFT-CDO-ALLDAYEVENT:FALSE
SUMMARY:M State Choir Concert
DESCRIPTION:M State Spring Choir Concert
X-ALT-DESC;FMTTYPE=text/html:M State Spring Choir Concert
LOCATION:M State Legacy Hall 1414 College Way Fergus Falls\, MN
UID:e.314.32105
SEQUENCE:3
DTSTAMP:20260425T162907Z
URL:https://business.fergusfalls.com/events/details/m-state-choir-concert-04-22-2016-32105
END:VEVENT

END:VCALENDAR
