BEGIN:VCALENDAR
VERSION:2.0
PRODID:-//ChamberMaster//Event Calendar 2.0//EN
METHOD:PUBLISH
X-PUBLISHED-TTL:P3D
REFRESH-INTERVAL:P3D
CALSCALE:GREGORIAN
BEGIN:VEVENT
DTSTART:20171201T013000Z
DTEND:20171201T030000Z
X-MICROSOFT-CDO-ALLDAYEVENT:FALSE
SUMMARY:M State Choral Concert
DESCRIPTION:Minnesota State Community and Technical College welcomes the holiday season this year with an 80-voice choral performance of John Rutter's "Gloria" and costumed Old English carolers singing traditional Christmas favorites.\n\nThe M State Music Department's Holiday Concert is set for 7:30 p.m. Thursday\, Nov. 30\, in Legacy Hall on the Fergus Falls campus. The concert will be followed by an afterglow with holiday refreshments and strolling carolers.\n\n"Gloria\," a celebration of the holiday season\, will feature a brass ensemble accompanying members of the M State Concert Choir and Chamber Chorale under the direction of M State Choral Director Teresa Ashworth. M State Concert Band Director Jim Iverson is coordinating the brass ensemble.\n\nBoth choirs also will perform individually. A highlight of the Chamber Chorale performance will be a solo by M State sophomore Sidney Imsande of New York Mills\, who will sing "Only in Sleep" by Latvian composer Erik Esenvalds.\n\nSixteen costumed carolers\, members of the college's auditioned Voice Ensemble\, will sing "Ding! Dong! Merrily on High\," "Angels We Have Heard on High" and "Sleigh Ride."\n\nThe concert will end with a Pentatonix arrangement of "Silent Night."\n\nTickets are $9 in advance and $11 at the door for adults\, and $7 in advance and $8 at the door for students. Advance tickets are available in the M State Box Office\, by calling 218.736.1600 or online at mstatetickets.com.
X-ALT-DESC;FMTTYPE=text/html:<p>Minnesota State Community and Technical College welcomes the holiday season this year with an 80-voice choral performance of John Rutter&rsquo\;s &ldquo\;Gloria&rdquo\; and costumed Old English carolers singing traditional Christmas favorites.</p>\n\n<p>The M State Music Department&rsquo\;s Holiday Concert is set for 7:30 p.m. Thursday\, Nov. 30\, in Legacy Hall on the Fergus Falls campus. The concert will be followed by an afterglow with holiday refreshments and strolling carolers.</p>\n\n<p>&ldquo\;Gloria\,&rdquo\; a celebration of the holiday season\, will feature a brass ensemble accompanying members of the M State Concert Choir and Chamber Chorale under the direction of M State Choral Director Teresa Ashworth. M State Concert Band Director Jim Iverson is coordinating the brass ensemble.</p>\n\n<p>Both choirs also will perform individually. A highlight of the Chamber Chorale performance will be a solo by M State sophomore Sidney Imsande of New York Mills\, who will sing &ldquo\;Only in Sleep&rdquo\; by Latvian composer Erik Esenvalds.</p>\n\n<p>Sixteen costumed carolers\, members of the college&rsquo\;s auditioned Voice Ensemble\, will sing &ldquo\;Ding! Dong! Merrily on High\,&rdquo\; &ldquo\;Angels We Have Heard on High&rdquo\; and &ldquo\;Sleigh Ride.&rdquo\;</p>\n\n<p>The concert will end with a Pentatonix arrangement of &ldquo\;Silent Night.&rdquo\;</p>\n\n<p>Tickets are $9 in advance and $11 at the door for adults\, and $7 in advance and $8 at the door for students. Advance tickets are available in the M State Box Office\, by calling 218.736.1600 or online at mstatetickets.com.</p>\n
LOCATION:
UID:e.314.43309
SEQUENCE:3
DTSTAMP:20260424T073757Z
URL:https://business.fergusfalls.com/events/details/m-state-choral-concert-43309
END:VEVENT

END:VCALENDAR
