BEGIN:VCALENDAR
VERSION:2.0
PRODID:-//ChamberMaster//Event Calendar 2.0//EN
METHOD:PUBLISH
X-PUBLISHED-TTL:P3D
REFRESH-INTERVAL:P3D
CALSCALE:GREGORIAN
BEGIN:VEVENT
DTSTART:20191118T003000Z
DTEND:20191118T023000Z
X-MICROSOFT-CDO-ALLDAYEVENT:FALSE
SUMMARY:M State Combined Band Concert
DESCRIPTION:Combined Band Concert\n\nDirected by Jim Iverson
X-ALT-DESC;FMTTYPE=text/html:Combined Band Concert<br />\nDirected by Jim Iverson
LOCATION:Legacy Hall/Waage Theatre M State - Fergus Falls Campus 1414 College Way Fergus Falls\, MN
UID:e.314.55807
SEQUENCE:3
DTSTAMP:20260422T190041Z
URL:https://business.fergusfalls.com/events/details/m-state-combined-band-concert-55807
END:VEVENT

END:VCALENDAR
