BEGIN:VCALENDAR
VERSION:2.0
PRODID:-//ChamberMaster//Event Calendar 2.0//EN
METHOD:PUBLISH
X-PUBLISHED-TTL:P3D
REFRESH-INTERVAL:P3D
CALSCALE:GREGORIAN
BEGIN:VEVENT
DTSTART:20160416T003000Z
DTEND:20160416T013000Z
X-MICROSOFT-CDO-ALLDAYEVENT:FALSE
SUMMARY:M State Concert Band Concert
DESCRIPTION:
X-ALT-DESC;FMTTYPE=text/html:
LOCATION:M State Waage Theatre 1414 College Way Fergus Falls\, MN
UID:e.314.32103
SEQUENCE:3
DTSTAMP:20260425T163226Z
URL:https://business.fergusfalls.com/events/details/m-state-concert-band-concert-04-15-2016-32103
END:VEVENT

END:VCALENDAR
