BEGIN:VCALENDAR
VERSION:2.0
PRODID:-//ChamberMaster//Event Calendar 2.0//EN
METHOD:PUBLISH
X-PUBLISHED-TTL:P3D
REFRESH-INTERVAL:P3D
CALSCALE:GREGORIAN
BEGIN:VEVENT
DTSTART:20171026T210000Z
DTEND:20171027T000000Z
X-MICROSOFT-CDO-ALLDAYEVENT:FALSE
SUMMARY:M State Fergus Falls Open House
DESCRIPTION:Learn about M State from students\, faculty and staff.\n\nApply to M State from Oct. 23-29 and we'll waive the $20 application fee (use promo code CKM2017).\n\nEnjoy tasty refreshments.\n\nTake part in special activities and win prizes.
X-ALT-DESC;FMTTYPE=text/html:<span class="_4n-j _3cht fsl" data-testid="event-permalink-details">Learn about M State from students\, faculty and staff.<br />\nApply to M State from Oct. 23-29 and we&#39\;ll waive the $20 application fee (use promo code CKM2017).<br />\nEnjoy tasty refreshments.<br />\nTake part in special activities and win prizes.</span>
LOCATION:Minnesota State Community Technical College - M State - Fergus Falls
UID:e.314.42870
SEQUENCE:3
DTSTAMP:20260424T092411Z
URL:https://business.fergusfalls.com/events/details/m-state-fergus-falls-open-house-42870
END:VEVENT

END:VCALENDAR
