BEGIN:VCALENDAR
VERSION:2.0
PRODID:-//ChamberMaster//Event Calendar 2.0//EN
METHOD:PUBLISH
X-PUBLISHED-TTL:P3D
REFRESH-INTERVAL:P3D
CALSCALE:GREGORIAN
BEGIN:VEVENT
DTSTART:20161114T013000Z
DTEND:20161114T030000Z
X-MICROSOFT-CDO-ALLDAYEVENT:FALSE
SUMMARY:M State presents musical comedy ?How to Talk Minnesotan?
DESCRIPTION:Head up north with hosts Ed and Lucy Humde to The Lost Walleye Lodge\, where even natives of the Land of 10\,000 Lakes will enjoy learning the art of living and talking Minnesotan.
X-ALT-DESC;FMTTYPE=text/html:<span style="line-height: 115%\; font-family: &quot\;Calibri&quot\;\,sans-serif\; font-size: 11pt\; mso-fareast-font-family: Calibri\; mso-bidi-font-family: &quot\;Times New Roman&quot\;\; mso-ansi-language: EN-US\; mso-fareast-language: EN-US\; mso-bidi-language: AR-SA\;"><font color="#000000">Head up north with hosts Ed and Lucy Humde to The Lost Walleye Lodge\, where even natives of the Land of 10\,000 Lakes will enjoy learning the art of living and talking Minnesotan. </font></span>
LOCATION:Minnesota State Community and Technical College 1414 College Way Fergus Falls MN 56537
UID:e.314.36616
SEQUENCE:3
DTSTAMP:20260425T040846Z
URL:https://business.fergusfalls.com/events/details/m-state-presents-musical-comedy-how-to-talk-minnesotan-36616
END:VEVENT

END:VCALENDAR
