BEGIN:VCALENDAR
VERSION:2.0
PRODID:-//ChamberMaster//Event Calendar 2.0//EN
METHOD:PUBLISH
X-PUBLISHED-TTL:P3D
REFRESH-INTERVAL:P3D
CALSCALE:GREGORIAN
BEGIN:VEVENT
DTSTART:20151112T000000Z
DTEND:20151112T040000Z
X-MICROSOFT-CDO-ALLDAYEVENT:FALSE
SUMMARY:M State Veterans Day Basketball Night
DESCRIPTION:Heart of Lakes Harmony will sing the national anthem at the women's game and Jerry Covington will sing at the men's.\n\n\n\nEveryone is encourage to wear camouflage.\n\n\n\nThe Color Guard will be there.\n\n\n\nMilitary theme songs throughout the evening.\n\n\n\nCome show your support!
X-ALT-DESC;FMTTYPE=text/html:Heart of Lakes Harmony will sing the national anthem at the women&#39\;s game and Jerry Covington will sing at the men&#39\;s.<br />\n<br />\nEveryone is encourage to wear camouflage.<br />\n<br />\nThe Color Guard will be there.<br />\n<br />\nMilitary theme songs throughout the evening.<br />\n<br />\nCome show your support!
LOCATION:M State Fergus Falls Campus Spartan Gymnasium
UID:e.314.26445
SEQUENCE:3
DTSTAMP:20260426T011543Z
URL:https://business.fergusfalls.com/events/details/m-state-veterans-day-basketball-night-11-11-2015-26445
END:VEVENT

END:VCALENDAR
