BEGIN:VCALENDAR
VERSION:2.0
PRODID:-//ChamberMaster//Event Calendar 2.0//EN
METHOD:PUBLISH
X-PUBLISHED-TTL:P3D
REFRESH-INTERVAL:P3D
CALSCALE:GREGORIAN
BEGIN:VEVENT
DTSTART:20151204T013000Z
DTEND:20151204T033000Z
X-MICROSOFT-CDO-ALLDAYEVENT:FALSE
SUMMARY:M State Winter Choir Concert
DESCRIPTION:Winter Choir Concert - M State
X-ALT-DESC;FMTTYPE=text/html:<strong>Winter Choir Concert</strong> - <strong>M State </strong><br />\n&nbsp\;
LOCATION:Waage Theatre 1414 College Way Fergus Falls
UID:e.314.26907
SEQUENCE:3
DTSTAMP:20260426T011338Z
URL:https://business.fergusfalls.com/events/details/m-state-winter-choir-concert-12-03-2015-26907
END:VEVENT

END:VCALENDAR
