BEGIN:VCALENDAR
VERSION:2.0
PRODID:-//ChamberMaster//Event Calendar 2.0//EN
METHOD:PUBLISH
X-PUBLISHED-TTL:P3D
REFRESH-INTERVAL:P3D
CALSCALE:GREGORIAN
BEGIN:VEVENT
DTSTART:20191206T013000Z
DTEND:20191206T033000Z
X-MICROSOFT-CDO-ALLDAYEVENT:FALSE
SUMMARY:M State Winter Choir Concert
DESCRIPTION:Featuring Concert Choir\, Voice Ensemble & Chamber Corale\n\nDirected by Laura Odden Quaintance
X-ALT-DESC;FMTTYPE=text/html:Featuring Concert Choir\, Voice Ensemble &amp\; Chamber Corale<br />\nDirected by Laura Odden Quaintance
LOCATION:Legacy Hall M State - Fergus Falls Campus 1414 College Way Fergus Falls\, MN
UID:e.314.55808
SEQUENCE:3
DTSTAMP:20260422T185236Z
URL:https://business.fergusfalls.com/events/details/m-state-winter-choir-concert-55808
END:VEVENT

END:VCALENDAR
