BEGIN:VCALENDAR
VERSION:2.0
PRODID:-//ChamberMaster//Event Calendar 2.0//EN
METHOD:PUBLISH
X-PUBLISHED-TTL:P3D
REFRESH-INTERVAL:P3D
CALSCALE:GREGORIAN
BEGIN:VEVENT
DTSTART:20151121T213000Z
DTEND:20151122T033000Z
X-MICROSOFT-CDO-ALLDAYEVENT:FALSE
SUMMARY:Maidens of the Marshes LADIES ONLY Banquet
DESCRIPTION:31st Annual Ladies Only Ducks Unlimited Banquet - Saturday\, November 21\, 2015. Join us for an evening of fun and laughter with games\, raffles\, live and silent auction.
X-ALT-DESC;FMTTYPE=text/html:31st Annual Ladies Only Ducks Unlimited Banquet - Saturday\, November 21\, 2015. Join us for an evening of fun and laughter with games\, raffles\, live and silent auction.
LOCATION:VFW Post #612 420 East Washington Avenue Fergus Falls\, MN
UID:e.314.25081
SEQUENCE:3
DTSTAMP:20260426T012102Z
URL:https://business.fergusfalls.com/events/details/maidens-of-the-marshes-ladies-only-banquet-11-21-2015-25081
END:VEVENT

END:VCALENDAR
