BEGIN:VCALENDAR
VERSION:2.0
PRODID:-//ChamberMaster//Event Calendar 2.0//EN
METHOD:PUBLISH
X-PUBLISHED-TTL:P3D
REFRESH-INTERVAL:P3D
CALSCALE:GREGORIAN
BEGIN:VEVENT
DTSTART:20191024T170000Z
DTEND:20191024T180000Z
X-MICROSOFT-CDO-ALLDAYEVENT:FALSE
SUMMARY:Make A Difference: Foster Care & Adoption Informational Meeting
DESCRIPTION:Make a Difference. Foster Care and Adoption Informational meetings.\n\n \n\nCurious about foster care and/or adoption? Come learn some facts and myths and get your questions answered.\n\n\n\nInstructors: Megan Stock and Bridget Leonard\n\n218-739-3074
X-ALT-DESC;FMTTYPE=text/html:Make a Difference. Foster Care and Adoption Informational meetings.<br />\n&nbsp\;<br />\nCurious about foster care and/or adoption? Come learn some facts and myths and get your questions answered.<br />\n<br />\nInstructors: Megan Stock and Bridget Leonard<br />\n218-739-3074
LOCATION:Roosevelt Education Center (hockey arena entrance)
UID:e.314.54597
SEQUENCE:3
DTSTAMP:20260422T222205Z
URL:https://business.fergusfalls.com/events/details/make-a-difference-foster-care-adoption-informational-meeting-54597
END:VEVENT

END:VCALENDAR
