BEGIN:VCALENDAR
VERSION:2.0
PRODID:-//ChamberMaster//Event Calendar 2.0//EN
METHOD:PUBLISH
X-PUBLISHED-TTL:P3D
REFRESH-INTERVAL:P3D
CALSCALE:GREGORIAN
BEGIN:VEVENT
DTSTART:20161224T160000Z
DTEND:20161224T200000Z
X-MICROSOFT-CDO-ALLDAYEVENT:FALSE
SUMMARY:Mall Farmer's Market
DESCRIPTION:Fergus Falls Farmer's Market\n\nGet your calendars out and mark them for Saturdays beginning Nov 19th for our Winter Market. We guarantee warmer shopping and a great selection. Many of your favorite vendors will be participating.\n\n\n\nFergus Falls Farmer's Market\n\nWe strive to provide access to healthful\, nutritious\, and LOCALLY-produced food and goods for our community. We believe that engaging the community in this process promotes happiness and well-being\, as well as providing an opportunity for socializing\, networking\, and getting excited about our food!\n\nInterested in being a vendor? Please contact us at FFarmersMarket@gmail.com\n\n\n\nSaturdays 10am-2pm\n\nWestridge Mall\, next to Herbergers\n\nBegins November 19th
X-ALT-DESC;FMTTYPE=text/html:<span style="color: rgb(0\, 100\, 0)\;"><strong><em>Fergus Falls Farmer&#39\;s Market</em></strong></span><br />\nGet your calendars out and mark them for Saturdays beginning Nov 19th for our Winter Market. We guarantee warmer shopping and a great selection. Many of your favorite vendors will be participating.<br />\n<br />\n<em><span style="color: rgb(0\, 100\, 0)\;"><strong>Fergus Falls Farmer&#39\;s Market</strong></span></em><br />\nWe strive to provide access to healthful\, nutritious\, and LOCALLY-produced food and goods for our community. We believe that engaging the community in this process promotes happiness and well-being\, as well as providing an opportunity for socializing\, networking\, and getting excited about our food!<br />\nInterested in being a vendor? Please contact us at <a href="mailto:FFarmersMarket@gmail.com">FFarmersMarket@gmail.com</a><br />\n<br />\nSaturdays 10am-2pm<br />\nWestridge Mall\, next to Herbergers<br />\nBegins November 19th
LOCATION:Westridge Mall - next to Herbergers Fergus Falls
UID:e.314.36606
SEQUENCE:3
DTSTAMP:20260425T035249Z
URL:https://business.fergusfalls.com/events/details/mall-farmer-s-market-12-24-2016-36606
END:VEVENT

END:VCALENDAR
