BEGIN:VCALENDAR
VERSION:2.0
PRODID:-//ChamberMaster//Event Calendar 2.0//EN
METHOD:PUBLISH
X-PUBLISHED-TTL:P3D
REFRESH-INTERVAL:P3D
CALSCALE:GREGORIAN
BEGIN:VEVENT
DTSTART:20151030T230000Z
DTEND:20151031T003000Z
X-MICROSOFT-CDO-ALLDAYEVENT:FALSE
SUMMARY:MALL-O-WEEN & Halloween Carnival
DESCRIPTION:MALL-O-WEEN & HALLOWEEN CARNIVAL
X-ALT-DESC;FMTTYPE=text/html:<strong>MALL-O-WEEN &amp\; HALLOWEEN CARNIVAL </strong><br />\n<br />\n&nbsp\;
LOCATION:Located at the intersection of I-94 & Hwy 210 Fergus Falls
UID:e.314.25908
SEQUENCE:3
DTSTAMP:20260426T030013Z
URL:https://business.fergusfalls.com/events/details/mall-o-ween-halloween-carnival-10-30-2015-25908
END:VEVENT

END:VCALENDAR
