BEGIN:VCALENDAR
VERSION:2.0
PRODID:-//ChamberMaster//Event Calendar 2.0//EN
METHOD:PUBLISH
X-PUBLISHED-TTL:P3D
REFRESH-INTERVAL:P3D
CALSCALE:GREGORIAN
BEGIN:VEVENT
DTSTART:20160421T180000Z
DTEND:20160421T203000Z
X-MICROSOFT-CDO-ALLDAYEVENT:FALSE
SUMMARY:Managing Conflict - Finding Meaning
DESCRIPTION:This Hospice Foundation of America program hosted by LB Homes - Lakeland Hospice addresses methods and strategies that can be used to provide support to terminally-ill patients\, their families and close networks as they cope with impending death.
X-ALT-DESC;FMTTYPE=text/html:This Hospice Foundation of America program hosted by LB Homes - Lakeland Hospice addresses methods and strategies that can be used to provide support to terminally-ill patients\, their families and close networks as they cope with impending death.
LOCATION:805 East Channing Ave.
UID:e.314.32049
SEQUENCE:3
DTSTAMP:20260425T162817Z
URL:https://business.fergusfalls.com/events/details/managing-conflict-finding-meaning-04-21-2016-32049
END:VEVENT

END:VCALENDAR
